BEGIN:VCALENDAR
VERSION:2.0
PRODID:-//eventon.com NONSGML v1.0//EN
CALSCALE:GREGORIAN
METHOD:PUBLISH
BEGIN:VEVENT
UID:69e5eaf1dc77c
DTSTAMP:20260420T085929Z
DTSTART:20260506T140000Z
DTEND:20260506T153000Z
LOCATION:
SUMMARY:Muzikale middag
DESCRIPTION:Op woensdagmiddag 6 mei kan iedereen komen genieten van een gra
 tis toegankelijk concert van Regionaal Seniorenorkest De Meierij dat dit ja
 ar zijn 30jarig lustrum viert. Dit concert wordt gehouden in De Boerderij o
 p&nbsp;Zorgpark Voorburg in Vught\,  in de zeer sfeervolle ruimte van het R
 estaurant\,  dat behoort bij Cello. Meteen een[..]\nhttps://www.ouderensame
 n.nl/events/muzikale-middag/
URL:https://www.ouderensamen.nl/events/muzikale-middag/
END:VEVENT
END:VCALENDAR